BEGIN:VCALENDAR
VERSION:2.0
PRODID:-//TradBogner von der Teck e.V. - ECPv6.15.20//NONSGML v1.0//EN
CALSCALE:GREGORIAN
METHOD:PUBLISH
X-ORIGINAL-URL:https://tradbogner.de
X-WR-CALDESC:Veranstaltungen für TradBogner von der Teck e.V.
REFRESH-INTERVAL;VALUE=DURATION:PT1H
X-Robots-Tag:noindex
X-PUBLISHED-TTL:PT1H
BEGIN:VTIMEZONE
TZID:Europe/Berlin
BEGIN:DAYLIGHT
TZOFFSETFROM:+0100
TZOFFSETTO:+0200
TZNAME:CEST
DTSTART:20230326T010000
END:DAYLIGHT
BEGIN:STANDARD
TZOFFSETFROM:+0200
TZOFFSETTO:+0100
TZNAME:CET
DTSTART:20231029T010000
END:STANDARD
BEGIN:DAYLIGHT
TZOFFSETFROM:+0100
TZOFFSETTO:+0200
TZNAME:CEST
DTSTART:20240331T010000
END:DAYLIGHT
BEGIN:STANDARD
TZOFFSETFROM:+0200
TZOFFSETTO:+0100
TZNAME:CET
DTSTART:20241027T010000
END:STANDARD
BEGIN:DAYLIGHT
TZOFFSETFROM:+0100
TZOFFSETTO:+0200
TZNAME:CEST
DTSTART:20250330T010000
END:DAYLIGHT
BEGIN:STANDARD
TZOFFSETFROM:+0200
TZOFFSETTO:+0100
TZNAME:CET
DTSTART:20251026T010000
END:STANDARD
END:VTIMEZONE
BEGIN:VEVENT
DTSTART;TZID=Europe/Berlin:20240915T130000
DTEND;TZID=Europe/Berlin:20240915T150000
DTSTAMP:20260422T194119
CREATED:20240915T102400Z
LAST-MODIFIED:20240915T102456Z
UID:6097-1726405200-1726412400@tradbogner.de
SUMMARY:Kinder- und Jugendtraining
DESCRIPTION:
URL:https://tradbogner.de/event/kinder-und-jugendtraining-7/
LOCATION:Wiesle\, 8FWFMC27+PW\, Kirchheim unter Teck\, 73230\, Deutschland
CATEGORIES:Training
ORGANIZER;CN="TradBogner von der Teck e.V.":MAILTO:Info@tradbogner.de
END:VEVENT
BEGIN:VEVENT
DTSTART;TZID=Europe/Berlin:20240928T140000
DTEND;TZID=Europe/Berlin:20240928T160000
DTSTAMP:20260422T194119
CREATED:20240918T114748Z
LAST-MODIFIED:20260105T103405Z
UID:6117-1727532000-1727539200@tradbogner.de
SUMMARY:Offenes Training
DESCRIPTION:Schießaufsicht Peter Hloch
URL:https://tradbogner.de/event/offenes-training-kw-38-2024-schiessaufsicht-peter-hloch-2/
LOCATION:Wiesle\, 8FWFMC27+PW\, Kirchheim unter Teck\, 73230\, Deutschland
CATEGORIES:Training
ATTACH;FMTTYPE=image/jpeg:https://tradbogner.de/wp-content/uploads/FF1CC042-88F1-4580-9E3D-01B40A32D5F8-e1551089630747.jpeg
ORGANIZER;CN="TradBogner von der Teck e.V.":MAILTO:Info@tradbogner.de
END:VEVENT
BEGIN:VEVENT
DTSTART;TZID=Europe/Berlin:20240929T130000
DTEND;TZID=Europe/Berlin:20240929T150000
DTSTAMP:20260422T194119
CREATED:20240915T103025Z
LAST-MODIFIED:20240915T103025Z
UID:6100-1727614800-1727622000@tradbogner.de
SUMMARY:Kinder- und Jugendtraining
DESCRIPTION:
URL:https://tradbogner.de/event/kinder-und-jugendtraining-8/
LOCATION:Wiesle\, 8FWFMC27+PW\, Kirchheim unter Teck\, 73230\, Deutschland
CATEGORIES:Training
ORGANIZER;CN="TradBogner von der Teck e.V.":MAILTO:Info@tradbogner.de
END:VEVENT
END:VCALENDAR