BEGIN:VCALENDAR
VERSION:2.0
PRODID:-//TradBogner von der Teck e.V. - ECPv6.15.20//NONSGML v1.0//EN
CALSCALE:GREGORIAN
METHOD:PUBLISH
X-ORIGINAL-URL:https://tradbogner.de
X-WR-CALDESC:Veranstaltungen für TradBogner von der Teck e.V.
REFRESH-INTERVAL;VALUE=DURATION:PT1H
X-Robots-Tag:noindex
X-PUBLISHED-TTL:PT1H
BEGIN:VTIMEZONE
TZID:Europe/Berlin
BEGIN:DAYLIGHT
TZOFFSETFROM:+0100
TZOFFSETTO:+0200
TZNAME:CEST
DTSTART:20240331T010000
END:DAYLIGHT
BEGIN:STANDARD
TZOFFSETFROM:+0200
TZOFFSETTO:+0100
TZNAME:CET
DTSTART:20241027T010000
END:STANDARD
BEGIN:DAYLIGHT
TZOFFSETFROM:+0100
TZOFFSETTO:+0200
TZNAME:CEST
DTSTART:20250330T010000
END:DAYLIGHT
BEGIN:STANDARD
TZOFFSETFROM:+0200
TZOFFSETTO:+0100
TZNAME:CET
DTSTART:20251026T010000
END:STANDARD
BEGIN:DAYLIGHT
TZOFFSETFROM:+0100
TZOFFSETTO:+0200
TZNAME:CEST
DTSTART:20260329T010000
END:DAYLIGHT
BEGIN:STANDARD
TZOFFSETFROM:+0200
TZOFFSETTO:+0100
TZNAME:CET
DTSTART:20261025T010000
END:STANDARD
END:VTIMEZONE
BEGIN:VEVENT
DTSTART;TZID=Europe/Berlin:20251025T150000
DTEND;TZID=Europe/Berlin:20251025T170000
DTSTAMP:20260421T231918
CREATED:20251010T092826Z
LAST-MODIFIED:20251010T093112Z
UID:6388-1761404400-1761411600@tradbogner.de
SUMMARY:Kürbisschnitzen
DESCRIPTION:
URL:https://tradbogner.de/event/kuerbisschnitzen-2/
LOCATION:Wiesle\, 8FWFMC27+PW\, Kirchheim unter Teck\, 73230\, Deutschland
CATEGORIES:Vereinsintern
ATTACH;FMTTYPE=image/jpeg:https://tradbogner.de/wp-content/uploads/2021/10/Halloween.jpg
ORGANIZER;CN="TradBogner von der Teck e.V.":MAILTO:Info@tradbogner.de
END:VEVENT
BEGIN:VEVENT
DTSTART;TZID=Europe/Berlin:20251026T130000
DTEND;TZID=Europe/Berlin:20251026T160000
DTSTAMP:20260421T231918
CREATED:20241115T152943Z
LAST-MODIFIED:20251010T092524Z
UID:6189-1761483600-1761494400@tradbogner.de
SUMMARY:Kürbisschnitzen - verschoben auf 25.10.2025
DESCRIPTION:
URL:https://tradbogner.de/event/kuerbisschnitzen/
LOCATION:Wiesle\, 8FWFMC27+PW\, Kirchheim unter Teck\, 73230\, Deutschland
CATEGORIES:Vereinsintern
ATTACH;FMTTYPE=image/jpeg:https://tradbogner.de/wp-content/uploads/2021/10/Halloween.jpg
ORGANIZER;CN="TradBogner von der Teck e.V.":MAILTO:Info@tradbogner.de
END:VEVENT
END:VCALENDAR