BEGIN:VCALENDAR
VERSION:2.0
PRODID:-//TradBogner von der Teck e.V. - ECPv6.15.20//NONSGML v1.0//EN
CALSCALE:GREGORIAN
METHOD:PUBLISH
X-ORIGINAL-URL:https://tradbogner.de
X-WR-CALDESC:Veranstaltungen für TradBogner von der Teck e.V.
REFRESH-INTERVAL;VALUE=DURATION:PT1H
X-Robots-Tag:noindex
X-PUBLISHED-TTL:PT1H
BEGIN:VTIMEZONE
TZID:Europe/Berlin
BEGIN:DAYLIGHT
TZOFFSETFROM:+0100
TZOFFSETTO:+0200
TZNAME:CEST
DTSTART:20240331T010000
END:DAYLIGHT
BEGIN:STANDARD
TZOFFSETFROM:+0200
TZOFFSETTO:+0100
TZNAME:CET
DTSTART:20241027T010000
END:STANDARD
BEGIN:DAYLIGHT
TZOFFSETFROM:+0100
TZOFFSETTO:+0200
TZNAME:CEST
DTSTART:20250330T010000
END:DAYLIGHT
BEGIN:STANDARD
TZOFFSETFROM:+0200
TZOFFSETTO:+0100
TZNAME:CET
DTSTART:20251026T010000
END:STANDARD
BEGIN:DAYLIGHT
TZOFFSETFROM:+0100
TZOFFSETTO:+0200
TZNAME:CEST
DTSTART:20260329T010000
END:DAYLIGHT
BEGIN:STANDARD
TZOFFSETFROM:+0200
TZOFFSETTO:+0100
TZNAME:CET
DTSTART:20261025T010000
END:STANDARD
END:VTIMEZONE
BEGIN:VEVENT
DTSTART;TZID=Europe/Berlin:20251206T140000
DTEND;TZID=Europe/Berlin:20251206T160000
DTSTAMP:20260419T160103
CREATED:20251115T142746Z
LAST-MODIFIED:20260105T103736Z
UID:6429-1765029600-1765036800@tradbogner.de
SUMMARY:Offenes Training
DESCRIPTION:Schießaufsicht Peter Hloch
URL:https://tradbogner.de/event/offenes-training-schiessaufsicht-peter-hloch-3/
LOCATION:Wiesle\, 8FWFMC27+PW\, Kirchheim unter Teck\, 73230\, Deutschland
CATEGORIES:Training
ATTACH;FMTTYPE=image/jpeg:https://tradbogner.de/wp-content/uploads/FF1CC042-88F1-4580-9E3D-01B40A32D5F8-e1551089630747.jpeg
END:VEVENT
BEGIN:VEVENT
DTSTART;TZID=Europe/Berlin:20251213T140000
DTEND;TZID=Europe/Berlin:20251213T160000
DTSTAMP:20260419T160103
CREATED:20251115T142859Z
LAST-MODIFIED:20260105T102836Z
UID:6431-1765634400-1765641600@tradbogner.de
SUMMARY:Offenes Training
DESCRIPTION:Schießaufsicht Carmen Burghardt
URL:https://tradbogner.de/event/offenes-training-schiessaufsicht-carmen-burghardt/
LOCATION:Wiesle\, 8FWFMC27+PW\, Kirchheim unter Teck\, 73230\, Deutschland
CATEGORIES:Training
ATTACH;FMTTYPE=image/jpeg:https://tradbogner.de/wp-content/uploads/FF1CC042-88F1-4580-9E3D-01B40A32D5F8-e1551089630747.jpeg
ORGANIZER;CN="TradBogner von der Teck e.V.":MAILTO:Info@tradbogner.de
END:VEVENT
BEGIN:VEVENT
DTSTART;TZID=Europe/Berlin:20251220T140000
DTEND;TZID=Europe/Berlin:20251220T160000
DTSTAMP:20260419T160103
CREATED:20251115T143001Z
LAST-MODIFIED:20260105T102814Z
UID:6433-1766239200-1766246400@tradbogner.de
SUMMARY:Offenes Training
DESCRIPTION:Schießaufsicht Regine Stuber
URL:https://tradbogner.de/event/offenes-training-schiessaufsicht-regine-stuber/
LOCATION:Wiesle\, 8FWFMC27+PW\, Kirchheim unter Teck\, 73230\, Deutschland
CATEGORIES:Training
ATTACH;FMTTYPE=image/jpeg:https://tradbogner.de/wp-content/uploads/FF1CC042-88F1-4580-9E3D-01B40A32D5F8-e1551089630747.jpeg
ORGANIZER;CN="TradBogner von der Teck e.V.":MAILTO:Info@tradbogner.de
END:VEVENT
END:VCALENDAR