BEGIN:VCALENDAR
VERSION:2.0
PRODID:-//TradBogner von der Teck e.V. - ECPv6.15.20//NONSGML v1.0//EN
CALSCALE:GREGORIAN
METHOD:PUBLISH
X-WR-CALNAME:TradBogner von der Teck e.V.
X-ORIGINAL-URL:https://tradbogner.de
X-WR-CALDESC:Veranstaltungen für TradBogner von der Teck e.V.
REFRESH-INTERVAL;VALUE=DURATION:PT1H
X-Robots-Tag:noindex
X-PUBLISHED-TTL:PT1H
BEGIN:VTIMEZONE
TZID:Europe/Berlin
BEGIN:DAYLIGHT
TZOFFSETFROM:+0100
TZOFFSETTO:+0200
TZNAME:CEST
DTSTART:20240331T010000
END:DAYLIGHT
BEGIN:STANDARD
TZOFFSETFROM:+0200
TZOFFSETTO:+0100
TZNAME:CET
DTSTART:20241027T010000
END:STANDARD
BEGIN:DAYLIGHT
TZOFFSETFROM:+0100
TZOFFSETTO:+0200
TZNAME:CEST
DTSTART:20250330T010000
END:DAYLIGHT
BEGIN:STANDARD
TZOFFSETFROM:+0200
TZOFFSETTO:+0100
TZNAME:CET
DTSTART:20251026T010000
END:STANDARD
BEGIN:DAYLIGHT
TZOFFSETFROM:+0100
TZOFFSETTO:+0200
TZNAME:CEST
DTSTART:20260329T010000
END:DAYLIGHT
BEGIN:STANDARD
TZOFFSETFROM:+0200
TZOFFSETTO:+0100
TZNAME:CET
DTSTART:20261025T010000
END:STANDARD
END:VTIMEZONE
BEGIN:VEVENT
DTSTART;TZID=Europe/Berlin:20250308T100000
DTEND;TZID=Europe/Berlin:20250308T160000
DTSTAMP:20260422T090141
CREATED:20241115T143735Z
LAST-MODIFIED:20241115T143735Z
UID:6167-1741428000-1741449600@tradbogner.de
SUMMARY:Arbeitsdienst
DESCRIPTION:Kein offenes Training
URL:https://tradbogner.de/event/arbeitsdienst/
LOCATION:Wiesle\, 8FWFMC27+PW\, Kirchheim unter Teck\, 73230\, Deutschland
CATEGORIES:Arbeitsdienst
ATTACH;FMTTYPE=image/jpeg:https://tradbogner.de/wp-content/uploads/Fotos_Arbeitsdienst/D766DEAB-DE95-4D34-A419-45B9318D05A1.jpeg
ORGANIZER;CN="TradBogner von der Teck e.V.":MAILTO:Info@tradbogner.de
END:VEVENT
BEGIN:VEVENT
DTSTART;TZID=Europe/Berlin:20250321T200000
DTEND;TZID=Europe/Berlin:20250321T223000
DTSTAMP:20260422T090141
CREATED:20241115T144329Z
LAST-MODIFIED:20241115T144455Z
UID:6170-1742587200-1742596200@tradbogner.de
SUMMARY:Mitgliederversammlung 2025
DESCRIPTION:
URL:https://tradbogner.de/event/mitgliederversammlung-2025/
LOCATION:Ristorante Del Gusto\, Birkhau 2\, Kirchheim/ Teck\, Baden-Württemberg\, 73230\, Deutschland
CATEGORIES:Öffentliche Veranstaltung,Versammlungen
ATTACH;FMTTYPE=image/png:https://tradbogner.de/wp-content/uploads/2020/01/TradBognerlogo-neu-PNG-126kB.png
ORGANIZER;CN="TradBogner von der Teck e.V.":MAILTO:Info@tradbogner.de
END:VEVENT
END:VCALENDAR