BEGIN:VCALENDAR
VERSION:2.0
PRODID:-//TradBogner von der Teck e.V. - ECPv6.15.20//NONSGML v1.0//EN
CALSCALE:GREGORIAN
METHOD:PUBLISH
X-ORIGINAL-URL:https://tradbogner.de
X-WR-CALDESC:Veranstaltungen für TradBogner von der Teck e.V.
REFRESH-INTERVAL;VALUE=DURATION:PT1H
X-Robots-Tag:noindex
X-PUBLISHED-TTL:PT1H
BEGIN:VTIMEZONE
TZID:Europe/Berlin
BEGIN:DAYLIGHT
TZOFFSETFROM:+0100
TZOFFSETTO:+0200
TZNAME:CEST
DTSTART:20240331T010000
END:DAYLIGHT
BEGIN:STANDARD
TZOFFSETFROM:+0200
TZOFFSETTO:+0100
TZNAME:CET
DTSTART:20241027T010000
END:STANDARD
BEGIN:DAYLIGHT
TZOFFSETFROM:+0100
TZOFFSETTO:+0200
TZNAME:CEST
DTSTART:20250330T010000
END:DAYLIGHT
BEGIN:STANDARD
TZOFFSETFROM:+0200
TZOFFSETTO:+0100
TZNAME:CET
DTSTART:20251026T010000
END:STANDARD
BEGIN:DAYLIGHT
TZOFFSETFROM:+0100
TZOFFSETTO:+0200
TZNAME:CEST
DTSTART:20260329T010000
END:DAYLIGHT
BEGIN:STANDARD
TZOFFSETFROM:+0200
TZOFFSETTO:+0100
TZNAME:CET
DTSTART:20261025T010000
END:STANDARD
END:VTIMEZONE
BEGIN:VEVENT
DTSTART;TZID=Europe/Berlin:20250208T100000
DTEND;TZID=Europe/Berlin:20250208T160000
DTSTAMP:20260422T071431
CREATED:20241115T143147Z
LAST-MODIFIED:20241115T143923Z
UID:6165-1739008800-1739030400@tradbogner.de
SUMMARY:Grünschnitt Wiesle
DESCRIPTION:Kein offenes Training
URL:https://tradbogner.de/event/gruenschnitt-wiesle-2/
LOCATION:Wiesle\, 8FWFMC27+PW\, Kirchheim unter Teck\, 73230\, Deutschland
CATEGORIES:Arbeitsdienst
ATTACH;FMTTYPE=image/jpeg:https://tradbogner.de/wp-content/uploads/Fotos_Arbeitsdienst/E18B2F53-9106-46BA-A5BA-90E82E40C72C.jpeg
ORGANIZER;CN="TradBogner von der Teck e.V.":MAILTO:Info@tradbogner.de
END:VEVENT
END:VCALENDAR