BEGIN:VCALENDAR
VERSION:2.0
PRODID:-//TradBogner von der Teck e.V. - ECPv6.15.20//NONSGML v1.0//EN
CALSCALE:GREGORIAN
METHOD:PUBLISH
X-ORIGINAL-URL:https://tradbogner.de
X-WR-CALDESC:Veranstaltungen für TradBogner von der Teck e.V.
REFRESH-INTERVAL;VALUE=DURATION:PT1H
X-Robots-Tag:noindex
X-PUBLISHED-TTL:PT1H
BEGIN:VTIMEZONE
TZID:Europe/Berlin
BEGIN:DAYLIGHT
TZOFFSETFROM:+0100
TZOFFSETTO:+0200
TZNAME:CEST
DTSTART:20230326T010000
END:DAYLIGHT
BEGIN:STANDARD
TZOFFSETFROM:+0200
TZOFFSETTO:+0100
TZNAME:CET
DTSTART:20231029T010000
END:STANDARD
BEGIN:DAYLIGHT
TZOFFSETFROM:+0100
TZOFFSETTO:+0200
TZNAME:CEST
DTSTART:20240331T010000
END:DAYLIGHT
BEGIN:STANDARD
TZOFFSETFROM:+0200
TZOFFSETTO:+0100
TZNAME:CET
DTSTART:20241027T010000
END:STANDARD
BEGIN:DAYLIGHT
TZOFFSETFROM:+0100
TZOFFSETTO:+0200
TZNAME:CEST
DTSTART:20250330T010000
END:DAYLIGHT
BEGIN:STANDARD
TZOFFSETFROM:+0200
TZOFFSETTO:+0100
TZNAME:CET
DTSTART:20251026T010000
END:STANDARD
BEGIN:DAYLIGHT
TZOFFSETFROM:+0100
TZOFFSETTO:+0200
TZNAME:CEST
DTSTART:20260329T010000
END:DAYLIGHT
BEGIN:STANDARD
TZOFFSETFROM:+0200
TZOFFSETTO:+0100
TZNAME:CET
DTSTART:20261025T010000
END:STANDARD
END:VTIMEZONE
BEGIN:VEVENT
DTSTART;VALUE=DATE:20241223
DTEND;VALUE=DATE:20250105
DTSTAMP:20260422T052435
CREATED:20231117T181642Z
LAST-MODIFIED:20231219T095148Z
UID:5840-1734912000-1736035199@tradbogner.de
SUMMARY:Weihnachtsferien
DESCRIPTION:Kein offenes Training
URL:https://tradbogner.de/event/weihnachtsferien-3/
END:VEVENT
BEGIN:VEVENT
DTSTART;TZID=Europe/Berlin:20250106T110000
DTEND;TZID=Europe/Berlin:20250106T150000
DTSTAMP:20260422T052435
CREATED:20241115T142810Z
LAST-MODIFIED:20241115T143836Z
UID:6163-1736161200-1736175600@tradbogner.de
SUMMARY:Drei-Königs-Schießen
DESCRIPTION:Vereinsinternes Dreikönigsturnier mit Cloutschießen und Robin-Hood-Wettbewerb.\nMit dem Schuß auf die Adlerscheibe wird außerdem der Wanderpokal für das Jahr 2025 vergeben. Bitte beachtet\, dass dafür nur Holzpfeile zugelassen sind. \nBeginn ist pünktlich um 11 Uhr\, Ende spätestens wenn wir nichts mehr sehen.\nBitte kalkuliert Eure persönliche Vorbereitungszeit ein und kommt daher etwas früher. \nKein offenes Training
URL:https://tradbogner.de/event/drei-koenigs-schiessen/
LOCATION:Wiesle\, 8FWFMC27+PW\, Kirchheim unter Teck\, 73230\, Deutschland
CATEGORIES:Event,Vereinsintern
ATTACH;FMTTYPE=image/jpeg:https://tradbogner.de/wp-content/uploads/Fotos_Nikolausschiessen/tradbogner-nikolausschessen-kerzen.jpg
ORGANIZER;CN="TradBogner von der Teck e.V.":MAILTO:Info@tradbogner.de
END:VEVENT
END:VCALENDAR