BEGIN:VCALENDAR
VERSION:2.0
PRODID:-//TradBogner von der Teck e.V. - ECPv6.15.20//NONSGML v1.0//EN
CALSCALE:GREGORIAN
METHOD:PUBLISH
X-ORIGINAL-URL:https://tradbogner.de
X-WR-CALDESC:Veranstaltungen für TradBogner von der Teck e.V.
REFRESH-INTERVAL;VALUE=DURATION:PT1H
X-Robots-Tag:noindex
X-PUBLISHED-TTL:PT1H
BEGIN:VTIMEZONE
TZID:Europe/Berlin
BEGIN:DAYLIGHT
TZOFFSETFROM:+0100
TZOFFSETTO:+0200
TZNAME:CEST
DTSTART:20230326T010000
END:DAYLIGHT
BEGIN:STANDARD
TZOFFSETFROM:+0200
TZOFFSETTO:+0100
TZNAME:CET
DTSTART:20231029T010000
END:STANDARD
BEGIN:DAYLIGHT
TZOFFSETFROM:+0100
TZOFFSETTO:+0200
TZNAME:CEST
DTSTART:20240331T010000
END:DAYLIGHT
BEGIN:STANDARD
TZOFFSETFROM:+0200
TZOFFSETTO:+0100
TZNAME:CET
DTSTART:20241027T010000
END:STANDARD
BEGIN:DAYLIGHT
TZOFFSETFROM:+0100
TZOFFSETTO:+0200
TZNAME:CEST
DTSTART:20250330T010000
END:DAYLIGHT
BEGIN:STANDARD
TZOFFSETFROM:+0200
TZOFFSETTO:+0100
TZNAME:CET
DTSTART:20251026T010000
END:STANDARD
END:VTIMEZONE
BEGIN:VEVENT
DTSTART;VALUE=DATE:20241028
DTEND;VALUE=DATE:20241102
DTSTAMP:20260422T014714
CREATED:20231117T181544Z
LAST-MODIFIED:20231219T095217Z
UID:5838-1730073600-1730505599@tradbogner.de
SUMMARY:Herbstferien
DESCRIPTION:Kein offenes Training
URL:https://tradbogner.de/event/herbstferien-2/
END:VEVENT
BEGIN:VEVENT
DTSTART;TZID=Europe/Berlin:20241109T140000
DTEND;TZID=Europe/Berlin:20241109T160000
DTSTAMP:20260422T014714
CREATED:20231219T094447Z
LAST-MODIFIED:20231219T094801Z
UID:5917-1731160800-1731168000@tradbogner.de
SUMMARY:Offenes Training KW 45/2024 - Schießaufsicht Peter Stuber
DESCRIPTION:
URL:https://tradbogner.de/event/offenes-training-kw-45-2024-schiessaufsicht-peter-stuber/
LOCATION:Wiesle\, 8FWFMC27+PW\, Kirchheim unter Teck\, 73230\, Deutschland
CATEGORIES:Training
ATTACH;FMTTYPE=image/jpeg:https://tradbogner.de/wp-content/uploads/FF1CC042-88F1-4580-9E3D-01B40A32D5F8-e1551089630747.jpeg
ORGANIZER;CN="TradBogner von der Teck e.V.":MAILTO:Info@tradbogner.de
END:VEVENT
BEGIN:VEVENT
DTSTART;TZID=Europe/Berlin:20241110T130000
DTEND;TZID=Europe/Berlin:20241110T150000
DTSTAMP:20260422T014714
CREATED:20240918T113534Z
LAST-MODIFIED:20240918T113534Z
UID:6107-1731243600-1731250800@tradbogner.de
SUMMARY:Kinder- und Jugendtraining
DESCRIPTION:
URL:https://tradbogner.de/event/kinder-und-jugendtraining-11/
LOCATION:Wiesle\, 8FWFMC27+PW\, Kirchheim unter Teck\, 73230\, Deutschland
CATEGORIES:Training
ORGANIZER;CN="TradBogner von der Teck e.V.":MAILTO:Info@tradbogner.de
END:VEVENT
BEGIN:VEVENT
DTSTART;TZID=Europe/Berlin:20241123T140000
DTEND;TZID=Europe/Berlin:20241123T160000
DTSTAMP:20260422T014714
CREATED:20240918T115755Z
LAST-MODIFIED:20260105T103533Z
UID:6127-1732370400-1732377600@tradbogner.de
SUMMARY:Offenes Training
DESCRIPTION:Schießaufsicht Peter Hloch
URL:https://tradbogner.de/event/offenes-training-kw-47-2024-schiessaufsicht-peter-hloch/
LOCATION:Wiesle\, 8FWFMC27+PW\, Kirchheim unter Teck\, 73230\, Deutschland
CATEGORIES:Training
ATTACH;FMTTYPE=image/jpeg:https://tradbogner.de/wp-content/uploads/FF1CC042-88F1-4580-9E3D-01B40A32D5F8-e1551089630747.jpeg
ORGANIZER;CN="TradBogner von der Teck e.V.":MAILTO:Info@tradbogner.de
END:VEVENT
BEGIN:VEVENT
DTSTART;TZID=Europe/Berlin:20241124T130000
DTEND;TZID=Europe/Berlin:20241124T150000
DTSTAMP:20260422T014714
CREATED:20240918T113657Z
LAST-MODIFIED:20240918T113657Z
UID:6109-1732453200-1732460400@tradbogner.de
SUMMARY:Kinder- und Jugendtraining
DESCRIPTION:
URL:https://tradbogner.de/event/kinder-und-jugendtraining-12/
LOCATION:Wiesle\, 8FWFMC27+PW\, Kirchheim unter Teck\, 73230\, Deutschland
CATEGORIES:Training
ORGANIZER;CN="TradBogner von der Teck e.V.":MAILTO:Info@tradbogner.de
END:VEVENT
END:VCALENDAR