BEGIN:VCALENDAR
VERSION:2.0
PRODID:-//TradBogner von der Teck e.V. - ECPv6.15.20//NONSGML v1.0//EN
CALSCALE:GREGORIAN
METHOD:PUBLISH
X-WR-CALNAME:TradBogner von der Teck e.V.
X-ORIGINAL-URL:https://tradbogner.de
X-WR-CALDESC:Veranstaltungen für TradBogner von der Teck e.V.
REFRESH-INTERVAL;VALUE=DURATION:PT1H
X-Robots-Tag:noindex
X-PUBLISHED-TTL:PT1H
BEGIN:VTIMEZONE
TZID:Europe/Berlin
BEGIN:DAYLIGHT
TZOFFSETFROM:+0100
TZOFFSETTO:+0200
TZNAME:CEST
DTSTART:20230326T010000
END:DAYLIGHT
BEGIN:STANDARD
TZOFFSETFROM:+0200
TZOFFSETTO:+0100
TZNAME:CET
DTSTART:20231029T010000
END:STANDARD
BEGIN:DAYLIGHT
TZOFFSETFROM:+0100
TZOFFSETTO:+0200
TZNAME:CEST
DTSTART:20240331T010000
END:DAYLIGHT
BEGIN:STANDARD
TZOFFSETFROM:+0200
TZOFFSETTO:+0100
TZNAME:CET
DTSTART:20241027T010000
END:STANDARD
BEGIN:DAYLIGHT
TZOFFSETFROM:+0100
TZOFFSETTO:+0200
TZNAME:CEST
DTSTART:20250330T010000
END:DAYLIGHT
BEGIN:STANDARD
TZOFFSETFROM:+0200
TZOFFSETTO:+0100
TZNAME:CET
DTSTART:20251026T010000
END:STANDARD
END:VTIMEZONE
BEGIN:VEVENT
DTSTART;TZID=Europe/Berlin:20241005T100000
DTEND;TZID=Europe/Berlin:20241005T160000
DTSTAMP:20260421T234150
CREATED:20231117T190144Z
LAST-MODIFIED:20241011T164139Z
UID:5870-1728122400-1728144000@tradbogner.de
SUMMARY:Herbstarbeitsdienst fällt heute aus
DESCRIPTION:Aufgrund des Wetters wird der Herbstarbeitsdienst heute nicht stattfinden.
URL:https://tradbogner.de/event/herbstarbeitsdienst/
LOCATION:Wiesle\, 8FWFMC27+PW\, Kirchheim unter Teck\, 73230\, Deutschland
CATEGORIES:Arbeitsdienst
ATTACH;FMTTYPE=image/jpeg:https://tradbogner.de/wp-content/uploads/Fotos_Arbeitsdienst/tradbogner-arbeitsdienst-pinsel-holzlasieren.jpg
ORGANIZER;CN="TradBogner von der Teck e.V.":MAILTO:Info@tradbogner.de
END:VEVENT
BEGIN:VEVENT
DTSTART;TZID=Europe/Berlin:20241012T100000
DTEND;TZID=Europe/Berlin:20241012T160000
DTSTAMP:20260421T234150
CREATED:20231117T190335Z
LAST-MODIFIED:20241011T163948Z
UID:5872-1728727200-1728748800@tradbogner.de
SUMMARY:Ausweichtermin Herbstarbeitsdienst (fällt aus)
DESCRIPTION:
URL:https://tradbogner.de/event/ausweichtermin-herbstarbeitsdienst/
LOCATION:Wiesle\, 8FWFMC27+PW\, Kirchheim unter Teck\, 73230\, Deutschland
CATEGORIES:Arbeitsdienst
ATTACH;FMTTYPE=image/jpeg:https://tradbogner.de/wp-content/uploads/Fotos_Arbeitsdienst/tradbogner-arbeitsdienst-pinsel-holzlasieren.jpg
ORGANIZER;CN="TradBogner von der Teck e.V.":MAILTO:Info@tradbogner.de
END:VEVENT
BEGIN:VEVENT
DTSTART;TZID=Europe/Berlin:20241012T140000
DTEND;TZID=Europe/Berlin:20241012T160000
DTSTAMP:20260421T234150
CREATED:20240918T114534Z
LAST-MODIFIED:20260105T103429Z
UID:6115-1728741600-1728748800@tradbogner.de
SUMMARY:Offenes Training
DESCRIPTION:Schießaufsicht Andreas Müller
URL:https://tradbogner.de/event/offenes-training-kw-41-2024-schiessaufsicht-andreas-mueller/
LOCATION:Wiesle\, 8FWFMC27+PW\, Kirchheim unter Teck\, 73230\, Deutschland
CATEGORIES:Training
ATTACH;FMTTYPE=image/jpeg:https://tradbogner.de/wp-content/uploads/FF1CC042-88F1-4580-9E3D-01B40A32D5F8-e1551089630747.jpeg
ORGANIZER;CN="TradBogner von der Teck e.V.":MAILTO:Info@tradbogner.de
END:VEVENT
BEGIN:VEVENT
DTSTART;TZID=Europe/Berlin:20241013T130000
DTEND;TZID=Europe/Berlin:20241013T150000
DTSTAMP:20260421T234150
CREATED:20240915T103143Z
LAST-MODIFIED:20240915T103143Z
UID:6102-1728824400-1728831600@tradbogner.de
SUMMARY:Kinder- und Jugendtraining
DESCRIPTION:
URL:https://tradbogner.de/event/kinder-und-jugendtraining-9/
LOCATION:Wiesle\, 8FWFMC27+PW\, Kirchheim unter Teck\, 73230\, Deutschland
CATEGORIES:Training
ORGANIZER;CN="TradBogner von der Teck e.V.":MAILTO:Info@tradbogner.de
END:VEVENT
BEGIN:VEVENT
DTSTART;TZID=Europe/Berlin:20241019T100000
DTEND;TZID=Europe/Berlin:20241019T160000
DTSTAMP:20260421T234150
CREATED:20241011T164420Z
LAST-MODIFIED:20241011T164814Z
UID:6147-1729332000-1729353600@tradbogner.de
SUMMARY:2. Ausweichtermin Herbstarbeitsdienst
DESCRIPTION:Aller guten Dinge sind drei.
URL:https://tradbogner.de/event/2-ausweichtermin-herbstarbeitsdienst/
LOCATION:Ötlingen\, Stuttgarter Straße 191\, Kirchheim unter Teck\, Baden-Württemberg\, 73230\, Deutschland
CATEGORIES:Arbeitsdienst
ATTACH;FMTTYPE=image/jpeg:https://tradbogner.de/wp-content/uploads/Fotos_Arbeitsdienst/tradbogner-arbeitsdienst-pinsel-holzlasieren.jpg
END:VEVENT
BEGIN:VEVENT
DTSTART;TZID=Europe/Berlin:20241019T140000
DTEND;TZID=Europe/Berlin:20241019T160000
DTSTAMP:20260421T234150
CREATED:20240918T115256Z
LAST-MODIFIED:20260105T103500Z
UID:6121-1729346400-1729353600@tradbogner.de
SUMMARY:Offenes Training
DESCRIPTION:Schießaufsicht Peter Hloch
URL:https://tradbogner.de/event/offenes-training-kw-42-2024-schiessaufsicht-peter-hloch/
LOCATION:Wiesle\, 8FWFMC27+PW\, Kirchheim unter Teck\, 73230\, Deutschland
CATEGORIES:Training
ATTACH;FMTTYPE=image/jpeg:https://tradbogner.de/wp-content/uploads/FF1CC042-88F1-4580-9E3D-01B40A32D5F8-e1551089630747.jpeg
ORGANIZER;CN="TradBogner von der Teck e.V.":MAILTO:Info@tradbogner.de
END:VEVENT
BEGIN:VEVENT
DTSTART;TZID=Europe/Berlin:20241026T133000
DTEND;TZID=Europe/Berlin:20241026T140000
DTSTAMP:20260421T234150
CREATED:20231117T190500Z
LAST-MODIFIED:20240629T082754Z
UID:5874-1729949400-1729951200@tradbogner.de
SUMMARY:Schnupperschießen Oktober - ausgebucht\, bitte nicht mehr anmelden
DESCRIPTION:
URL:https://tradbogner.de/event/schnupperschiessen-oktober-2/
LOCATION:Wiesle\, 8FWFMC27+PW\, Kirchheim unter Teck\, 73230\, Deutschland
CATEGORIES:Schnupperschießen
ATTACH;FMTTYPE=image/jpeg:https://tradbogner.de/wp-content/uploads/tradbogner-schnupperschiessen-512x410.jpg
ORGANIZER;CN="TradBogner von der Teck e.V.":MAILTO:Info@tradbogner.de
END:VEVENT
BEGIN:VEVENT
DTSTART;TZID=Europe/Berlin:20241027T130000
DTEND;TZID=Europe/Berlin:20241027T160000
DTSTAMP:20260421T234150
CREATED:20240915T103241Z
LAST-MODIFIED:20240930T122618Z
UID:6104-1730034000-1730044800@tradbogner.de
SUMMARY:Kürbisschnitzen für alle Vereinsmitglieder
DESCRIPTION:Das für heute geplante Kinder- und Jugendtraining entfällt.
URL:https://tradbogner.de/event/kinder-und-jugendtraining-10/
LOCATION:Wiesle\, 8FWFMC27+PW\, Kirchheim unter Teck\, 73230\, Deutschland
CATEGORIES:Training
ATTACH;FMTTYPE=image/jpeg:https://tradbogner.de/wp-content/uploads/Fotos_Halloween/2015_10_31_halloween_dirk_088.jpg
ORGANIZER;CN="TradBogner von der Teck e.V.":MAILTO:Info@tradbogner.de
END:VEVENT
BEGIN:VEVENT
DTSTART;VALUE=DATE:20241028
DTEND;VALUE=DATE:20241102
DTSTAMP:20260421T234150
CREATED:20231117T181544Z
LAST-MODIFIED:20231219T095217Z
UID:5838-1730073600-1730505599@tradbogner.de
SUMMARY:Herbstferien
DESCRIPTION:Kein offenes Training
URL:https://tradbogner.de/event/herbstferien-2/
END:VEVENT
END:VCALENDAR