BEGIN:VCALENDAR
VERSION:2.0
PRODID:-//TradBogner von der Teck e.V. - ECPv6.15.20//NONSGML v1.0//EN
CALSCALE:GREGORIAN
METHOD:PUBLISH
X-ORIGINAL-URL:https://tradbogner.de
X-WR-CALDESC:Veranstaltungen für TradBogner von der Teck e.V.
REFRESH-INTERVAL;VALUE=DURATION:PT1H
X-Robots-Tag:noindex
X-PUBLISHED-TTL:PT1H
BEGIN:VTIMEZONE
TZID:Europe/Berlin
BEGIN:DAYLIGHT
TZOFFSETFROM:+0100
TZOFFSETTO:+0200
TZNAME:CEST
DTSTART:20230326T010000
END:DAYLIGHT
BEGIN:STANDARD
TZOFFSETFROM:+0200
TZOFFSETTO:+0100
TZNAME:CET
DTSTART:20231029T010000
END:STANDARD
BEGIN:DAYLIGHT
TZOFFSETFROM:+0100
TZOFFSETTO:+0200
TZNAME:CEST
DTSTART:20240331T010000
END:DAYLIGHT
BEGIN:STANDARD
TZOFFSETFROM:+0200
TZOFFSETTO:+0100
TZNAME:CET
DTSTART:20241027T010000
END:STANDARD
BEGIN:DAYLIGHT
TZOFFSETFROM:+0100
TZOFFSETTO:+0200
TZNAME:CEST
DTSTART:20250330T010000
END:DAYLIGHT
BEGIN:STANDARD
TZOFFSETFROM:+0200
TZOFFSETTO:+0100
TZNAME:CET
DTSTART:20251026T010000
END:STANDARD
END:VTIMEZONE
BEGIN:VEVENT
DTSTART;TZID=Europe/Berlin:20240427T133000
DTEND;TZID=Europe/Berlin:20240427T140000
DTSTAMP:20260421T234156
CREATED:20231117T184616Z
LAST-MODIFIED:20240211T101644Z
UID:5858-1714224600-1714226400@tradbogner.de
SUMMARY:Ausgebucht - bitte nicht mehr anmelden - Schnupperschießen April
DESCRIPTION:
URL:https://tradbogner.de/event/schnupperschiessen/
LOCATION:Wiesle\, 8FWFMC27+PW\, Kirchheim unter Teck\, 73230\, Deutschland
CATEGORIES:Schnupperschießen
ATTACH;FMTTYPE=image/jpeg:https://tradbogner.de/wp-content/uploads/tradbogner-schnupperschiessen-512x410.jpg
ORGANIZER;CN="TradBogner von der Teck e.V.":MAILTO:Info@tradbogner.de
END:VEVENT
BEGIN:VEVENT
DTSTART;TZID=Europe/Berlin:20240427T140000
DTEND;TZID=Europe/Berlin:20240427T160000
DTSTAMP:20260421T234156
CREATED:20240324T173457Z
LAST-MODIFIED:20260105T102925Z
UID:5979-1714226400-1714233600@tradbogner.de
SUMMARY:Offenes Training
DESCRIPTION:Schießaufsicht Raimund Nierobisch
URL:https://tradbogner.de/event/offenes-training-kw-17-2024-schiessaufsicht-raimund-nierobisch/
LOCATION:Wiesle\, 8FWFMC27+PW\, Kirchheim unter Teck\, 73230\, Deutschland
CATEGORIES:Training
ORGANIZER;CN="TradBogner von der Teck e.V.":MAILTO:Info@tradbogner.de
END:VEVENT
BEGIN:VEVENT
DTSTART;TZID=Europe/Berlin:20240428T130000
DTEND;TZID=Europe/Berlin:20240428T150000
DTSTAMP:20260421T234156
CREATED:20240407T095504Z
LAST-MODIFIED:20240407T095504Z
UID:6002-1714309200-1714316400@tradbogner.de
SUMMARY:Kinder- und Jugendtraining
DESCRIPTION:
URL:https://tradbogner.de/event/kinder-und-jugendtraining-2/
LOCATION:Wiesle\, 8FWFMC27+PW\, Kirchheim unter Teck\, 73230\, Deutschland
CATEGORIES:Training
ORGANIZER;CN="TradBogner von der Teck e.V.":MAILTO:Info@tradbogner.de
END:VEVENT
END:VCALENDAR